BEGIN:VCALENDAR
VERSION:2.0
PRODID:-//Associação Passivhaus Portugal - ECPv6.13.2.1//NONSGML v1.0//EN
CALSCALE:GREGORIAN
METHOD:PUBLISH
X-WR-CALNAME:Associação Passivhaus Portugal
X-ORIGINAL-URL:https://passivhaus.pt
X-WR-CALDESC:Events for Associação Passivhaus Portugal
REFRESH-INTERVAL;VALUE=DURATION:PT1H
X-Robots-Tag:noindex
X-PUBLISHED-TTL:PT1H
BEGIN:VTIMEZONE
TZID:Europe/Lisbon
BEGIN:DAYLIGHT
TZOFFSETFROM:+0000
TZOFFSETTO:+0100
TZNAME:WEST
DTSTART:20230326T010000
END:DAYLIGHT
BEGIN:STANDARD
TZOFFSETFROM:+0100
TZOFFSETTO:+0000
TZNAME:WET
DTSTART:20231029T010000
END:STANDARD
END:VTIMEZONE
BEGIN:VEVENT
DTSTART;VALUE=DATE:20231106
DTEND;VALUE=DATE:20231122
DTSTAMP:20260423T111637
CREATED:20230725T141152Z
LAST-MODIFIED:20230810T170201Z
UID:9571-1699228800-1700611199@passivhaus.pt
SUMMARY:Curso Certified Passive House Tradesperson
DESCRIPTION:37ª Edição \nDatas: 06\, 14 e 21 de novembro de 2023\nHorário: das 09h00 às 18h00
URL:https://passivhaus.pt/evento/curso-certified-passive-house-tradesperson-2/
CATEGORIES:Certified Passive House Tradesperson
ATTACH;FMTTYPE=image/jpeg:https://passivhaus.pt/wp-content/uploads/2023/04/event_passivhaus_tradesperson.jpg
END:VEVENT
BEGIN:VEVENT
DTSTART;TZID=Europe/Lisbon:20231113T090000
DTEND;TZID=Europe/Lisbon:20231204T170000
DTSTAMP:20260423T111637
CREATED:20230731T123607Z
LAST-MODIFIED:20231107T150854Z
UID:9800-1699866000-1701709200@passivhaus.pt
SUMMARY:DesignPH
DESCRIPTION:1ª Edição \nDatas: 13\, 20\, 27 de novembro e 4 de dezembro de 2023 (às segundas)\nHorário: das 9h00 às 17h00
URL:https://passivhaus.pt/evento/designph/
CATEGORIES:DesignPH + Exportação PHPP
ATTACH;FMTTYPE=image/jpeg:https://passivhaus.pt/wp-content/uploads/2023/07/event_design_ph.jpg
END:VEVENT
END:VCALENDAR