BEGIN:VCALENDAR
VERSION:2.0
PRODID:-//Associação Passivhaus Portugal - ECPv6.13.2.1//NONSGML v1.0//EN
CALSCALE:GREGORIAN
METHOD:PUBLISH
X-WR-CALNAME:Associação Passivhaus Portugal
X-ORIGINAL-URL:https://passivhaus.pt
X-WR-CALDESC:Events for Associação Passivhaus Portugal
REFRESH-INTERVAL;VALUE=DURATION:PT1H
X-Robots-Tag:noindex
X-PUBLISHED-TTL:PT1H
BEGIN:VTIMEZONE
TZID:Europe/Lisbon
BEGIN:DAYLIGHT
TZOFFSETFROM:+0000
TZOFFSETTO:+0100
TZNAME:WEST
DTSTART:20240331T010000
END:DAYLIGHT
BEGIN:STANDARD
TZOFFSETFROM:+0100
TZOFFSETTO:+0000
TZNAME:WET
DTSTART:20241027T010000
END:STANDARD
END:VTIMEZONE
BEGIN:VEVENT
DTSTART;TZID=Europe/Lisbon:20241127T093000
DTEND;TZID=Europe/Lisbon:20241127T093000
DTSTAMP:20260424T231012
CREATED:20241003T142304Z
LAST-MODIFIED:20241112T104751Z
UID:15548-1732699800-1732699800@passivhaus.pt
SUMMARY:Workshop Passive House Center: Envolvente Opaca e Transparente para Desempenho Passive House
DESCRIPTION:Aprender fazendo no Passive House Center \nData: 27 de Novembro 2024Horário: 9h30 às 12h30Local: Passive House CenterCusto: Exclusivo para sócios Passivhaus PortugalPor apenas 75€/ano torne-se sócio aqui. \n  \nDestinado a projetistas e profissionais interessados no padrão Passive House\, este workshop destaca a importância da envolvente do edifício para garantir desempenhos energéticos de nível passivo. O programa inicia com uma breve introdução teórica de dois estudos de caso\, representativos de duas abordagens construtivas comuns em Portugal: aplicação de isolamento pelo exterior e aplicação de isolamento pelo interior. \nApós 40 minutos de exposição teórica\, os participantes terão a oportunidade de experienciar a prática em obra\, onde poderão acompanhar e participar ativamente em demonstrações à escala real. O foco está na aplicação técnica das soluções apresentadas e\, mais importante\, no entendimento do conjunto construtivo\, que é o fator decisivo para o sucesso de uma obra dentro do padrão Passive House. \nEsta abordagem prática permite que os profissionais compreendam a integração das soluções técnicas desde o início do projeto\, assegurando a correta especificação e acompanhamento da instalação\, com o objetivo de minimizar disfuncionamentos\, custos e prazos. \nCronograma do Workshop: \n09h30 – Receção \n09h45 – Boas-vindas\, Passive House Portugal \n10h00 – Caso de Estudo I: Parede de tijolo térmico com isolamento exterior\, fachada ventilada\, instalação de janela e selagem \n10h15 – Caso de Estudo II: Parede de tijolo térmico com isolamento interior\, soleira térmica e instalação de janela \n10h30 – Prática em obra: Demonstração do Caso de Estudo I \n11h30 – Prática em obra: Demonstração do Caso de Estudo II \n12h30 – Almoço \n															\n																														 \nComo chegar ao Passive House Center? \nReynaers Aluminium SA   (5 minutos da saída da A1 em Pombal) \nParque Industrial Manuel da MotaAvenida Infante D. Henrique\, nº173100-354 Pombal \n\nDestinatários: Instaladores\, Técnicos\, profissionais do setor da construção e gestão de edifícios e público em geral. \nSemear uma Agrofloresta no espaço envolvente \nVamos aproveitar a presença de todos e no final de cada Workshop fazemos o convite para semear: carvalhos\, árvores de fruto\, aromáticas… \nQueremos que as pessoas tomem consciência da capacidade que têm de regenerar a natureza! \nOrganização: \n															\n															\n															\n															\n															\n															\n																														 \n  \n 
URL:https://passivhaus.pt/evento/workshop-passive-house-center-instalacao-pavimento-radiante-aplicacao-protecao-janelas-2/
CATEGORIES:Workshop Passive House Center
ATTACH;FMTTYPE=image/jpeg:https://passivhaus.pt/wp-content/uploads/2023/08/wphc.jpg
END:VEVENT
END:VCALENDAR